BEGIN:VCALENDAR
VERSION:2.0
PRODID:-//Tukios.com/
BEGIN:VEVENT
UID:3a3f02a2-62a0-41fb-9a5e-fb73f97ac8a5@www.newcomercasper.com
DTSTAMP:20260423T183438Z
DTSTART:20260815T220000Z
DTEND:20260815T230000Z
SUMMARY:Celebration of Life
DESCRIPTION:
URL:https://www.newcomercasper.com/obituaries/inge-kutchins
LOCATION:St. Marks Episcopal Church 701 South Wolcott Street  Casper WY 
	82601
GEO:42.8433519;-106.3233033
END:VEVENT
END:VCALENDAR