BEGIN:VCALENDAR
VERSION:2.0
PRODID:-//Tukios.com/
BEGIN:VEVENT
UID:99bf7a5e-924c-4705-ba51-63a18b1183f3@www.newcomercasper.com
DTSTAMP:20260423T231339Z
DTSTART:20260517T200000Z
DTEND:20260517T210000Z
SUMMARY:Wake
DESCRIPTION:
URL:https://www.newcomercasper.com/obituaries/regina-lathem
LOCATION:Community of Christ Church 2303 East 15th Street  Casper WY 
	82609
GEO:42.8348014;-106.2974943
END:VEVENT
END:VCALENDAR