BEGIN:VCALENDAR
VERSION:2.0
PRODID:-//Tukios.com/
BEGIN:VEVENT
UID:d168d1fb-1f9b-4771-8de8-f99719574734@www.newcomercasper.com
DTSTAMP:20260421T083649Z
DTSTART:20260209T200000Z
DTEND:20260209T203000Z
SUMMARY:Memorial Service
DESCRIPTION:
URL:https://www.newcomercasper.com/obituaries/robert-smith-ii
LOCATION: 80 Veterans Drive  Evansville WY 82636
GEO:42.8734715;-106.2606469
END:VEVENT
END:VCALENDAR